BEGIN:VCALENDAR
VERSION:2.0
PRODID:icalendar-ruby
CALSCALE:GREGORIAN
BEGIN:VEVENT
DTSTAMP:20260422T051838Z
UID:f0dd8d25-d767-40ff-9727-74de0377a804
DTSTART:20260429T050000Z
DESCRIPTION:All Yr 3 & 4 parents welcome
LOCATION:Takahe Room
SUMMARY:Yr 3 & 4 Camp Meeting
URL;VALUE=URI:
END:VEVENT
END:VCALENDAR
