BEGIN:VCALENDAR
VERSION:2.0
PRODID:icalendar-ruby
CALSCALE:GREGORIAN
BEGIN:VEVENT
DTSTAMP:20260422T051955Z
UID:d31a22cb-fdb5-488b-a9ec-3e6dffcf387d
DTSTART:20260426T210000Z
DESCRIPTION:School is closed today to observe ANZAC Day
LOCATION:
SUMMARY:School Closed to Observe ANZAC Day
URL;VALUE=URI:
END:VEVENT
END:VCALENDAR
