BEGIN:VCALENDAR
VERSION:2.0
PRODID:icalendar-ruby
CALSCALE:GREGORIAN
BEGIN:VEVENT
DTSTAMP:20260422T051816Z
UID:1facd6b8-dc56-4dbd-abd6-209dc176a3f6
DTSTART:20260424T214500Z
DESCRIPTION:Everyone welcome
LOCATION:Buckland Cenotaph
SUMMARY:ANZAC Day Service
URL;VALUE=URI:
END:VEVENT
END:VCALENDAR
