BEGIN:VCALENDAR
VERSION:2.0
PRODID:icalendar-ruby
CALSCALE:GREGORIAN
BEGIN:VEVENT
DTSTAMP:20260422T051838Z
UID:1e590df2-1dc0-4a9e-ba98-ff7291daa71b
DTSTART:20260423T210000Z
DESCRIPTION:For selected students
LOCATION:
SUMMARY:Franklin Orienteering - Time TBA
URL;VALUE=URI:
END:VEVENT
END:VCALENDAR
